BEGIN:VCALENDAR
VERSION:2.0
PRODID:-//eventon.com NONSGML v1.0//EN
CALSCALE:GREGORIAN
METHOD:PUBLISH
BEGIN:VEVENT
UID:69ea7f2576677
DTSTAMP:20260423T202053Z
DTSTART:20260415
DTEND:20260416
LOCATION:100% Online
SUMMARY:Curso Terapia Regressiva Para Tratar Traumas
DESCRIPTION:Formação em Hipnose Clínica e Regressão\nhttps://www.hipnot
 erapiasocial.com.br/events/curso-terapia-regressiva-para-tratar-traumas/
URL:https://www.hipnoterapiasocial.com.br/events/curso-terapia-regressiva-para-tratar-traumas/
END:VEVENT
END:VCALENDAR