BEGIN:VCALENDAR
VERSION:2.0
PRODID:-//eventon.com NONSGML v1.0//EN
CALSCALE:GREGORIAN
METHOD:PUBLISH
BEGIN:VEVENT
UID:69ea67a690506
DTSTAMP:20260423T184038Z
DTSTART:20250127T090300Z
DTEND:20250203T090300Z
LOCATION:100% Online e Gratuito
SUMMARY:PROGRAMAÇÃO PARA OS PRÓXIMOS DIAS HIPNOSE E PNL (100% Online e GRATUITO)
DESCRIPTION:Semana Especial de Hipnose e PNL\nhttps://www.hipnoterapiasocia
 l.com.br/events/semana-especial-de-hipnose-e-pnl/
URL:https://www.hipnoterapiasocial.com.br/events/semana-especial-de-hipnose-e-pnl/
END:VEVENT
END:VCALENDAR