BEGIN:VCALENDAR
VERSION:2.0
PRODID:-//eventon.com NONSGML v1.0//EN
CALSCALE:GREGORIAN
METHOD:PUBLISH
BEGIN:VEVENT
UID:69ea4cdb2ecd9
DTSTAMP:20260423T164619Z
DTSTART:20260425
DTEND:20260426
LOCATION:100% Online
SUMMARY:Formação Online Mestre da PNL
DESCRIPTION:Formação Online Mestre da PNL\nhttps://www.hipnoterapiasocial
 .com.br/events/formacao-online-mestre-da-pnl/
URL:https://www.hipnoterapiasocial.com.br/events/formacao-online-mestre-da-pnl/
END:VEVENT
END:VCALENDAR