BEGIN:VCALENDAR
VERSION:2.0
PRODID:-//eventon.com NONSGML v1.0//EN
CALSCALE:GREGORIAN
METHOD:PUBLISH
BEGIN:VEVENT
UID:69ea67a619e2f
DTSTAMP:20260423T184038Z
DTSTART:20260415
DTEND:20260416
LOCATION:100% Online
SUMMARY:Formação em Hipnose Clínica e Regressão
DESCRIPTION:Formação em Hipnose Clínica e Regressão\nhttps://www.hipnot
 erapiasocial.com.br/events/formacao-em-hipnose-clinica-e-regressao/
URL:https://www.hipnoterapiasocial.com.br/events/formacao-em-hipnose-clinica-e-regressao/
END:VEVENT
END:VCALENDAR