BEGIN:VCALENDAR
VERSION:2.0
PRODID:-//eventon.com NONSGML v1.0//EN
CALSCALE:GREGORIAN
METHOD:PUBLISH
BEGIN:VEVENT
UID:69ea67a79059b
DTSTAMP:20260423T184039Z
DTSTART:20260422
DTEND:20260423
LOCATION:100% Online
SUMMARY:Treinamento Hipnose de Olhos Abertos - Os segredos da Hipnose Conversacional
DESCRIPTION:Treinamento Hipnose de Olhos Abertos &#8211; Os segredos da Hip
 nose Conversacional\nhttps://www.hipnoterapiasocial.com.br/events/https-www
 -hipnoterapiasocial-com-br-cursos-treinamento-hipnose-de-olhos-abertos-os-s
 egredos-da-hipnose-conversacional/
URL:https://www.hipnoterapiasocial.com.br/events/https-www-hipnoterapiasocial-com-br-cursos-treinamento-hipnose-de-olhos-abertos-os-segredos-da-hipnose-conversacional/
END:VEVENT
END:VCALENDAR