BEGIN:VCALENDAR
VERSION:2.0
PRODID:-//eventon.com NONSGML v1.0//EN
CALSCALE:GREGORIAN
METHOD:PUBLISH
BEGIN:VEVENT
UID:69ea4cdacc581
DTSTAMP:20260423T164618Z
DTSTART:20260426
DTEND:20260427
LOCATION:100% Online
SUMMARY:Treinamento Online Hipnose e PNL no Emagrecimento
DESCRIPTION:Treinamento Online Hipnose e PNL no Emagrecimento\nhttps://www.
 hipnoterapiasocial.com.br/events/treinamento-online-hipnose-e-pnl-no-emagre
 cimento/
URL:https://www.hipnoterapiasocial.com.br/events/treinamento-online-hipnose-e-pnl-no-emagrecimento/
END:VEVENT
END:VCALENDAR