BEGIN:VCALENDAR
VERSION:2.0
PRODID:-//eventon.com NONSGML v1.0//EN
CALSCALE:GREGORIAN
METHOD:PUBLISH
BEGIN:VEVENT
UID:69ea67a71bbe6
DTSTAMP:20260423T184039Z
DTSTART:20260418
DTEND:20260419
LOCATION:
SUMMARY:Curso Atendimento Terapêutico Online
DESCRIPTION:Curso Atendimento Terapêutico Online\nhttps://www.hipnoterapia
 social.com.br/events/curso-atendimento-terapeutico-online/
URL:https://www.hipnoterapiasocial.com.br/events/curso-atendimento-terapeutico-online/
END:VEVENT
END:VCALENDAR