BEGIN:VCALENDAR
VERSION:2.0
PRODID:-//eventon.com NONSGML v1.0//EN
CALSCALE:GREGORIAN
METHOD:PUBLISH
BEGIN:VEVENT
UID:69ea827fa31ec
DTSTAMP:20260423T203511Z
DTSTART:20241228
DTEND:20241229
LOCATION:100% Online
SUMMARY:Curso Online Controle do Tabagismo com Hipnose
DESCRIPTION:Curso Online Controle do Tabagismo com Hipnose\nhttps://www.hip
 noterapiasocial.com.br/events/curso-online-controle-do-tabagismo-com-hipnos
 e/
URL:https://www.hipnoterapiasocial.com.br/events/curso-online-controle-do-tabagismo-com-hipnose/
END:VEVENT
END:VCALENDAR