BEGIN:VCALENDAR
VERSION:2.0
PRODID:-//eventon.com NONSGML v1.0//EN
CALSCALE:GREGORIAN
METHOD:PUBLISH
BEGIN:VEVENT
UID:69ea825728fc0
DTSTAMP:20260423T203431Z
DTSTART:20230830T095400Z
DTEND:20230830T095400Z
LOCATION:100% Online
SUMMARY:Hipnoterapia na Depressão - Ferramentas e Estratégias Terapêuticas
DESCRIPTION:Hipnoterapia na Depressão - Ferramentas e Estratégias Terapê
 uticas\nhttps://www.hipnoterapiasocial.com.br/events/curso-on-line-hipnose-
 no-emagrecimento/
URL:https://www.hipnoterapiasocial.com.br/events/curso-on-line-hipnose-no-emagrecimento/
END:VEVENT
END:VCALENDAR