BEGIN:VCALENDAR
VERSION:2.0
PRODID:-//eventon.com NONSGML v1.0//EN
CALSCALE:GREGORIAN
METHOD:PUBLISH
BEGIN:VEVENT
UID:69ea67a7d85a5
DTSTAMP:20260423T184039Z
DTSTART:20260408
DTEND:20260409
LOCATION:100% Online
SUMMARY:Formação em Regressão Terapeutica e (TVP)
DESCRIPTION:Formação em Regressão Terapeutica e (TVP)\nhttps://www.hipno
 terapiasocial.com.br/events/regressao-e-tvp-terapia-de-vidas-passadas-com-l
 uciano-araujo-2/
URL:https://www.hipnoterapiasocial.com.br/events/regressao-e-tvp-terapia-de-vidas-passadas-com-luciano-araujo-2/
END:VEVENT
END:VCALENDAR