BEGIN:VCALENDAR
VERSION:2.0
PRODID:-//eventon.com NONSGML v1.0//EN
CALSCALE:GREGORIAN
METHOD:PUBLISH
BEGIN:VEVENT
UID:69ea4cdaa1a2d
DTSTAMP:20260423T164618Z
DTSTART:20260429
DTEND:20260430
LOCATION:100% Online
SUMMARY:Curso Criando Belas Sugestões Hipnóticas
DESCRIPTION:Curso Criando Belas Sugestões Hipnóticas\nhttps://www.hipnote
 rapiasocial.com.br/events/curso-criando-belas-sugestoes-hipnoticas-com-brun
 o-gianolla/
URL:https://www.hipnoterapiasocial.com.br/events/curso-criando-belas-sugestoes-hipnoticas-com-bruno-gianolla/
END:VEVENT
END:VCALENDAR