BEGIN:VCALENDAR
VERSION:2.0
PRODID:-//eventon.com NONSGML v1.0//EN
CALSCALE:GREGORIAN
METHOD:PUBLISH
BEGIN:VEVENT
UID:69ea67a82c29b
DTSTAMP:20260423T184040Z
DTSTART:20260412T025900Z
DTEND:20260411T221100Z
LOCATION:100% Online
SUMMARY:Hipnoterapia Infantil - TÃ©cnicas de Hipnose para Tratar CrianÃ§as
DESCRIPTION:Hipnoterapia Infantil - TÃ©cnicas de Hipnose para Tratar CrianÃ
 §as\nhttps://www.hipnoterapiasocial.com.br/events/regressao-e-tvp-terapia-d
 e-vidas-passadas-com-luciano-araujo/
URL:https://www.hipnoterapiasocial.com.br/events/regressao-e-tvp-terapia-de-vidas-passadas-com-luciano-araujo/
END:VEVENT
END:VCALENDAR